BEGIN:VCALENDAR
VERSION:2.0
PRODID:-//thetheatre.au - ECPv6.2.1//NONSGML v1.0//EN
CALSCALE:GREGORIAN
METHOD:PUBLISH
X-WR-CALNAME:thetheatre.au
X-ORIGINAL-URL:https://thetheatre.au
X-WR-CALDESC:Events for thetheatre.au
REFRESH-INTERVAL;VALUE=DURATION:PT1H
X-Robots-Tag:noindex
X-PUBLISHED-TTL:PT1H
BEGIN:VTIMEZONE
TZID:Australia/Melbourne
BEGIN:STANDARD
TZOFFSETFROM:+1100
TZOFFSETTO:+1000
TZNAME:AEST
DTSTART:20260404T160000
END:STANDARD
BEGIN:DAYLIGHT
TZOFFSETFROM:+1000
TZOFFSETTO:+1100
TZNAME:AEDT
DTSTART:20261003T160000
END:DAYLIGHT
END:VTIMEZONE
BEGIN:VEVENT
DTSTART;VALUE=DATE:20260430
DTEND;VALUE=DATE:20260511
DTSTAMP:20260424T233119
CREATED:20251220T023710Z
LAST-MODIFIED:20251220T023710Z
UID:10000824-1777507200-1778457599@thetheatre.au
SUMMARY:Steel Magnolias Brisbane
DESCRIPTION:The iconic story that made us laugh\, cry\, and fall in love with six extraordinary women is back – live on stage in a dazzling new Australian production. \nWritten by Robert Harling\, the timeless tale of Steel Magnolias comes alive under the direction of Lee Lewis and a cast of six powerhouse actors. \nStep inside Truvy’s beauty salon\, the heart of a small Southern town\, where local women share their joys\, struggles and a little neighbourly gossip. From weddings and babies to divorces and funerals\, they face life’s highs and lows with humour\, courage and impeccably styled hair. When tragedy strikes\, it’s in these familiar walls that they find comfort\, support and the unbreakable bonds of friendship that carry them through. \nBursting with sass\, warmth and Southern charm\, Steel Magnolias delivers laughter\, love and unforgettable heart.
URL:https://thetheatre.au/event/steel-magnolias-brisbane/
LOCATION:Queensland Performing Arts Centre\, Cultural Precinct Cnr Grey & Melbourne Street\, QLD\, 4101\, Australia
CATEGORIES:Play
ATTACH;FMTTYPE=image/jpeg:https://thetheatre.au/wp-content/uploads/2025/11/05EC00D8-2341-4599-9B39-0018BEF3E3F1.jpg
ORGANIZER;CN="Woodward%20Productions%20%26amp%3B%20Neil%20Gooding%20Productions":MAILTO:alex@woodwardproductions.com
END:VEVENT
BEGIN:VEVENT
DTSTART;VALUE=DATE:20260501
DTEND;VALUE=DATE:20260601
DTSTAMP:20260424T233119
CREATED:20260106T083638Z
LAST-MODIFIED:20260106T083638Z
UID:10000832-1777593600-1780271999@thetheatre.au
SUMMARY:Waitress Melbourne
DESCRIPTION:If only life were as easy as pie… \nBroadway’s smash-hit musical WAITRESS is baking its way to Melbourne for the very first time! Inspired by Adrienne Shelly’s beloved film and brought to life by a trailblazing creative team\, including a book by acclaimed screenwriter Jessie Nelson\, an original\, uplifting score by Grammy® winner Sara Bareilles (Love Song\, Brave) and direction by Tony® winner Diane Paulus\, WAITRESS is the irresistible Broadway hit about resilience\, friendship and hope that has captured hearts worldwide. \nThis heartwarming and empowering musical tells the story of Jenna\, a small-town waitress and expert pie maker who longs to escape her rocky marriage and start again.​When a baking contest\, an unexpected new romance and the support of her fellow waitresses offer her a taste of change\, Jenna discovers that the secret ingredient to happiness might be closer than she ever imagined. \nSweet\, sassy and soul-stirring\, WAITRESS is “a little slice of heaven” (Entertainment Weekly) and “made from the finest ingredients” (Time Out). It’s a feel-good celebration of second chances\, and the magic of a well-made pie.
URL:https://thetheatre.au/event/waitress-melbourne/
LOCATION:Her Majesty’s Theatre\, 219 Exhibition Street\, Melbourne\, VIC\, 3000\, Australia
CATEGORIES:Musical
ATTACH;FMTTYPE=image/jpeg:https://thetheatre.au/wp-content/uploads/2025/12/IMG_7566-1.jpg
ORGANIZER;CN="John%20Frost%20for%20Crossroads%20Live":MAILTO:enquiries.cxlau@xroadslive.com
END:VEVENT
END:VCALENDAR