BEGIN:VCALENDAR
VERSION:2.0
PRODID:-//thetheatre.au - ECPv6.2.1//NONSGML v1.0//EN
CALSCALE:GREGORIAN
METHOD:PUBLISH
X-WR-CALNAME:thetheatre.au
X-ORIGINAL-URL:https://thetheatre.au
X-WR-CALDESC:Events for thetheatre.au
REFRESH-INTERVAL;VALUE=DURATION:PT1H
X-Robots-Tag:noindex
X-PUBLISHED-TTL:PT1H
BEGIN:VTIMEZONE
TZID:Australia/Melbourne
BEGIN:STANDARD
TZOFFSETFROM:+1100
TZOFFSETTO:+1000
TZNAME:AEST
DTSTART:20250405T160000
END:STANDARD
BEGIN:DAYLIGHT
TZOFFSETFROM:+1000
TZOFFSETTO:+1100
TZNAME:AEDT
DTSTART:20251004T160000
END:DAYLIGHT
END:VTIMEZONE
BEGIN:VEVENT
DTSTART;VALUE=DATE:20250226
DTEND;VALUE=DATE:20250809
DTSTAMP:20260420T172554
CREATED:20241129T014851Z
LAST-MODIFIED:20250624T015510Z
UID:10000647-1740528000-1754697599@thetheatre.au
SUMMARY:MJ The Musical
DESCRIPTION:He is one of the greatest entertainers of all time. Now\, Michael Jackson’s unique and unparalleled artistry is heading to Australia in the multiple Tony Award®-winning MJ the Musical. \nCentred around the making of his 1992 Dangerous World Tour\, MJ the Musical goes beyond the singular moves and signature sound of the star\, offering a rare look at the creative mind and collaborative spirit that catapulted Jackson into legendary status. \nCreated by Tony Award®-winning Director/Choreographer Christopher Wheeldon and two-time Pulitzer Prize winner Lynn Nottage\, MJ the Musical will arrive in Sydney in February 2025. \nTOUR DATES\nSydney Lyric Theatre Feb – Aug 2025\nMelbourne Her Majestys Theatre Sep – Nov 2025
URL:https://thetheatre.au/event/mj-the-musical/
LOCATION:Sydney Lyric Theatre\, 55 Pirrama Rd\, Pyrmont\, NSW\, 2009\, Australia
CATEGORIES:Musical
ATTACH;FMTTYPE=image/png:https://thetheatre.au/wp-content/uploads/2024/11/MJ-The-Musical.png
ORGANIZER;CN="Jay":MAILTO:jay@thetheatre.au
END:VEVENT
BEGIN:VEVENT
DTSTART;VALUE=DATE:20250316
DTEND;VALUE=DATE:20250623
DTSTAMP:20260420T172554
CREATED:20241127T024435Z
LAST-MODIFIED:20250210T065521Z
UID:10000637-1742083200-1750636799@thetheatre.au
SUMMARY:Jesus Christ Superstar Melbourne
DESCRIPTION:The iconic global phenomenon\, Jesus Christ Superstar opens at the Princess Theatre in March\, with a mesmerising new production that has garnered unprecedented reviews and accolades as it has toured the US and UK\, including winning an Olivier Award for Best Musical Revival. \nThis unmissable musical stars one of Australia’s most well-respected musicians and internationally acclaimed recording artists Michael Paynter as Jesus\, the dynamic and exciting musical theatre star Javon King as Judas and soul and blues powerhouse\, the superlative Mahalia Barnes as Mary. \nFeaturing lyrics and music by Emmy\, Grammy\, Oscar and Tony winners Tim Rice and Andrew Lloyd Webber\, Jesus Christ Superstar is set against the backdrop of an extraordinary series of events during the final weeks in the life of Jesus Christ\, as seen through the eyes of Judas. The legendary score includes I Don’t Know How to Love Him\, Gethsemane and Superstar. \nTouring Dates\nSydney Capitol Theatre 13/11 -31/12/2024 \nPerth Crown Theatre 13/2- 9/3/2025 \nMelbourne Princess Theatre 16/3 – 8/6/2025
URL:https://thetheatre.au/event/jesus-christ-superstar-melbourne/
LOCATION:Princess Theatre\, 163 Spring Street\, Melbourne\, VIC\, 3000\, Australia
CATEGORIES:Musical
ATTACH;FMTTYPE=image/png:https://thetheatre.au/wp-content/uploads/2024/11/Jesus-CHrist-superstar-1.png
ORGANIZER;CN="Jay":MAILTO:jay@thetheatre.au
END:VEVENT
BEGIN:VEVENT
DTSTART;VALUE=DATE:20250327
DTEND;VALUE=DATE:20250622
DTSTAMP:20260420T172554
CREATED:20240701T024718Z
LAST-MODIFIED:20250807T020203Z
UID:10000528-1743033600-1750550399@thetheatre.au
SUMMARY:Annie The Musical Sydney
DESCRIPTION:Annie The Musical Sydney \nA little hero for a big tomorrow! \nThe beloved tale of Annie has been capturing the hearts of theatregoers around the globe for generations. And now the legendary\, and inspiring production returns to the Capitol Theatre from March for a strictly limited season. \nStarring the incomparable Anthony Warlow as “Daddy” Warbucks\, the show-stopping Debora Krizak as the infamous Miss Hannigan\, alongside triple-threat wonders Mackenzie Dunn as Lily St. Regis\, and Keanu Gonzalez as Daniel “Rooster” Hannigan. Playing the role of Grace Farrell is the extraordinary Amanda Lea LaVergne. \nIt’s one of the most awarded and loved musicals of all time. With its iconic score\, featuring classics like It’s the Hard-Knock Life\, Easy Street and Tomorrow\, Annie is truly a timeless musical masterpiece. \nDirected by Karen Johnson Mortimer and with brand new choreography by Mitchell Woodcock\, Annie has a book and score written by Tony Award winners Thomas Meehan\, Charles Strouse and Martin Charnin. \nA celebration of hope\, family and friendship. This small but mighty young girl has returned to stick out her chin and grin once more!  Don’t miss Annie The Musical Sydney. \nShow notice: This show may contain loud noises\, flashing lights\, smoke effects\, and strobe lighting. \nAge recommendation: 6+ \nAnnie’s running time is 2hrs 30 minutes\, including a 20minute interval. \nTouring\nSydney  27/2 – 6/6/2025\nMelbourne 10/7 -3/8/2025\nBrisbane 27/12 -25/1/2026
URL:https://thetheatre.au/event/annie-the-musical-sydney/
LOCATION:Capitol Theatre Sydney\, 13 Campbell Street\, Haymarket\, NSW\, 2000\, Australia
CATEGORIES:Musical
ATTACH;FMTTYPE=image/jpeg:https://thetheatre.au/wp-content/uploads/2024/09/ANN_Logo.jpg
ORGANIZER;CN="John%20Frost%20for%20Crossroads%20Live":MAILTO:enquiries.cxlau@xroadslive.com
END:VEVENT
BEGIN:VEVENT
DTSTART;VALUE=DATE:20250426
DTEND;VALUE=DATE:20250609
DTSTAMP:20260420T172554
CREATED:20250128T091325Z
LAST-MODIFIED:20250202T094619Z
UID:10000673-1745625600-1749427199@thetheatre.au
SUMMARY:The Lord of the Rings - A Musical Tale Melbourne
DESCRIPTION:Embark on a stunning new journey\, as The Lord of the Rings unfolds in a breathtaking and critically acclaimed live stage production to capture hearts and imagination\, like never before. \nLongtime fans and newcomers alike will be immersed in the world of Middle-earth™\, in the company of Hobbits\, as J.R.R. Tolkien’s trilogy of books\, The Lord of the Rings is brought to life\, in an award-winning musical theatre event featuring spectacular world-class theatrics and captivating live music. \nThe Lord of the Rings – A Musical Tale stars some of Australia’s most acclaimed musical theatre performers and actor-musicians including Jemma Rix as Galadriel\, Ian Stenlake as Saruman\, Rob Mallett as Strider and Rarmian Newton as Frodo Baggins. \nTouring\nSydney  Closes 1 Feb\nPerth 19/3 -6/4/2025\nMelbourne 26/4 – 8/6/2025\nGold Coast 4/7-20/7/2025 \n 
URL:https://thetheatre.au/event/the-lord-of-the-rings-a-musical-tale-melbourne/
LOCATION:The Comedy Theatre\, 240 Exhibition Street\, Melbourne\, VIC\, 3000\, Australia
CATEGORIES:Musical
ATTACH;FMTTYPE=image/jpeg:https://thetheatre.au/wp-content/uploads/2025/01/Lord-of-the-Rings-Australia-2.jpeg
ORGANIZER;CN="Jay":MAILTO:jay@thetheatre.au
END:VEVENT
BEGIN:VEVENT
DTSTART;VALUE=DATE:20250508
DTEND;VALUE=DATE:20250707
DTSTAMP:20260420T172554
CREATED:20241127T023501Z
LAST-MODIFIED:20250323T054541Z
UID:10000635-1746662400-1751846399@thetheatre.au
SUMMARY:Hadestown Melbourne
DESCRIPTION:The acclaimed musical phenomenon HADESTOWN by singer-songwriter Anaïs Mitchell and director Rachel Chavkin will premiere at Theatre Royal Sydney in February 2025 and Melbourne’s Her Majesty’s theatre in May 2025. \n‘Big\, beautiful and emotionally blasting’ (The Guardian UK)\, HADESTOWN  is the winner of 8 Tony Awards® including BEST MUSICAL and the Grammy Award for Best Musical Theatre Album. Seen by three million\, streamed by over 350 million and adored by fans all around the world\, this is ‘your next musical theatre obsession’ (Vogue). \nHADESTOWN is a defiantly hopeful theatrical experience that will take you on a journey to the underworld and back\, intertwining two mythic love stories – that of young dreamers Orpheus and Eurydice\, and that of King Hades and his wife Persephone. \nHADESTOWN invites you to imagine how the world could be.
URL:https://thetheatre.au/event/hadestown-melbourne/
LOCATION:Her Majesty’s Theatre\, 219 Exhibition Street\, Melbourne\, VIC\, 3000\, Australia
CATEGORIES:Musical
ATTACH;FMTTYPE=image/jpeg:https://thetheatre.au/wp-content/uploads/2024/11/Hades-1000x1000_key-copy-1.jpg
ORGANIZER;CN="Jay":MAILTO:jay@thetheatre.au
END:VEVENT
BEGIN:VEVENT
DTSTART;VALUE=DATE:20250509
DTEND;VALUE=DATE:20250609
DTSTAMP:20260420T172554
CREATED:20250416T054112Z
LAST-MODIFIED:20250416T054112Z
UID:10000734-1746748800-1749427199@thetheatre.au
SUMMARY:Women on the Verge of a Nervous Breakdown
DESCRIPTION:Overdose on love (and gazpacho) \nStep into the vibrant\, hilarious world of 1980s Madrid\, where Pepa\, a heartbroken actress\, finds her life spiralling out of control after her lover’s sudden disappearance. \nAs she searches for answers\, Pepa navigates a series of increasingly outrageous events alongside a cast of eccentric characters — including a vengeful ex-wife\, a best friend entangled with an international terrorist\, a power-suited lawyer\, and enough sedative-laced gazpacho to knock out half of Spain. \nFollowing his award-winning\, critically acclaimed seasons of Cry Baby and American Psycho\, Alexander Berlage returns to the Hayes to direct this exhilarating comedy\, based on the iconic movie by Pedro Almodóvar.
URL:https://thetheatre.au/event/women-on-the-verge-of-a-nervous-breakdown/
LOCATION:Hayes Theatre Co.\, 19 Greenknowe Avenue\, Elizabeth Bay\, NSW\, 2011\, Australia
CATEGORIES:Musical
ATTACH;FMTTYPE=image/png:https://thetheatre.au/wp-content/uploads/2025/03/WOTV25_CastAnnouncement.png
ORGANIZER;CN="Hayes%20Theatre%20Co":MAILTO:boxoffice@hayestheatre.com.au
END:VEVENT
BEGIN:VEVENT
DTSTART;VALUE=DATE:20250518
DTEND;VALUE=DATE:20250912
DTSTAMP:20260420T172554
CREATED:20241114T075709Z
LAST-MODIFIED:20250809T023451Z
UID:10000618-1747526400-1757635199@thetheatre.au
SUMMARY:Beetlejuice The Musical
DESCRIPTION:Based on Tim Burton’s dearly beloved film\, BEETLEJUICE THE MUSICAL tells the story of Lydia Deetz\, a strange and unusual teenager whose whole life changes when she meets a recently deceased couple and a demon with a thing for stripes. \nWith an irreverent book\, an astonishing set\, and a score that’s out of this Netherworld\, BEETLEJUICE THE MUSICAL is “A FEAST FOR THE EYES AND SOUL!” (Entertainment Weekly). And under its uproarious surface (six feet under\, to be exact)\, it’s a remarkably touching show about family\, love\, and making the most of every Day-O!
URL:https://thetheatre.au/event/beetlejuice-the-musical/
LOCATION:Regent Theatre\, 191 Collins Street\, Melbourne\, VIC\, 3000\, Australia
CATEGORIES:Musical
ATTACH;FMTTYPE=image/png:https://thetheatre.au/wp-content/uploads/2024/11/Beetlejuice.png
ORGANIZER;CN="Jay":MAILTO:jay@thetheatre.au
END:VEVENT
BEGIN:VEVENT
DTSTART;VALUE=DATE:20250528
DTEND;VALUE=DATE:20250602
DTSTAMP:20260420T172554
CREATED:20241211T053049Z
LAST-MODIFIED:20241211T053049Z
UID:10000652-1748390400-1748822399@thetheatre.au
SUMMARY:Les Misérables The Arena Spectacular Brisbane
DESCRIPTION:Cameron Mackintosh in association with Nick Grace Management and Live Nation \nCameron Mackintosh’s production of Boublil and Schönberg’s LES MISÉRABLES THE ARENA SPECTACULAR has commenced its World Tour and will arrive in AUSTRALIA APRIL 2025 with strictly limited performances in Sydney\, Melbourne and Brisbane. As the world’s longest-running musical enters its 40th revolutionary year in London\, this spectacular production features an extraordinary and exciting new design speciﬁcally created for larger venues with a cast and orchestra of over 65. \nSeen by over 130 million people worldwide in 53 countries and in 22 languages\, Les Misérables is undisputedly one of the world’s most popular musicals. The Australian production will feature a company of famous Les Mis stars and brilliant new ones led by Alﬁe Boe and Killian Donnelly sharing the role of Jean Valjean and Michael Ball and Bradley Jaden sharing the role of Javert. Joining them are Matt Lucas and Marina Prior as The Thénardiers\, Rachelle Ann Go as Fantine\, Jac Yarrow as Marius\, Beatrice Penny-Touré as Cosette and James D. Gish as Enjolras with a cast and orchestra of over 65. \nVictor Hugo’s classic tale is an enthralling story of broken dreams and unrequited love\, passion\, sacriﬁce and redemption – a timeless testament to the survival of the human spirit. With a magniﬁcent score of iconic songs including “I Dreamed a Dream”\, “On My Own”\, “Bring Him Home”\, “One Day More” and more\, this epic and uplifting story is undisputedly one of the world’s favourite musicals. \nPlease note that the appearance of any artist is not guaranteed and is subject to change without notice.
URL:https://thetheatre.au/event/les-miserables-the-arena-spectacular-brisbane/
LOCATION:Brisbane Entertainment Centre\, 1 Melaleuca Dr\, Boondall\, Brisbane\, QLD\, 4034
CATEGORIES:Musical
ATTACH;FMTTYPE=image/jpeg:https://thetheatre.au/wp-content/uploads/2024/12/les-miserables-tickets-2024-zh-2.jpg
ORGANIZER;CN="Jay":MAILTO:jay@thetheatre.au
END:VEVENT
BEGIN:VEVENT
DTSTART;VALUE=DATE:20250617
DTEND;VALUE=DATE:20250825
DTSTAMP:20260420T172554
CREATED:20241107T013724Z
LAST-MODIFIED:20250507T051851Z
UID:10000609-1750118400-1756079999@thetheatre.au
SUMMARY:CATS Sydney
DESCRIPTION:LET THE MEMORY LIVE AGAIN \nExperience the 40th Australian Anniversary of Andrew Lloyd Webber’s record-breaking musical CATS\, returning to Theatre Royal Sydney from June. \nAdapted from TS Eliot’s ‘Old Possum’s Book of Practical Cats’\, this “groundbreaking musical” (Daily Express) comes together in a sparkling fusion of music\, dance and verse. \nOn just one special night of the year\, all Jellicle cats meet at the Jellicle Ball where Old Deuteronomy\, their wise and benevolent leader\, makes the Jellicle choice and announces which of them will go up to The Heaviside Layer and be reborn into a whole new Jellicle life. \nWith “timeless music\, spectacular sets and a superb cast” (Daily Mirror)\, breathtaking choreography and of course the unforgettable ‘Memory’\, CATS is a magical musical like no other. \nLet CATS thrill you once again! \n“It’s the cat’s whiskers” (The Times).
URL:https://thetheatre.au/event/cats/
LOCATION:Theatre Royal\, 108 King Street\, Sydney\, NSW\, 2000\, Australia
CATEGORIES:Musical
ATTACH;FMTTYPE=image/png:https://thetheatre.au/wp-content/uploads/2024/11/CATS-Sydney.png
ORGANIZER;CN="John%20Frost%20for%20Crossroads%20Live":MAILTO:enquiries.cxlau@xroadslive.com
END:VEVENT
BEGIN:VEVENT
DTSTART;VALUE=DATE:20250618
DTEND;VALUE=DATE:20250707
DTSTAMP:20260420T172554
CREATED:20250619T045241Z
LAST-MODIFIED:20250619T050435Z
UID:10000755-1750204800-1751846399@thetheatre.au
SUMMARY:Hedwig and the Angry Inch
DESCRIPTION:The smash hit of the Adelaide Festival and earning five-star acclaim across the board\, Hedwig and the Angry Inch arrives in Melbourne for a strictly limited season from June.\nWinner of the Tony Award for Best Revival of a Musical\, this genre-defying sensation has been hailed by Rolling Stone as “the best rock musical ever.” Featuring iconic songs including “The Origin of Love\,” “Midnight Radio\,” and “Sugar Daddy\,” this electrifying production is a celebration of love\, survival\, and self-acceptance.
URL:https://thetheatre.au/event/hedwig-and-the-angry-inch/
LOCATION:Athenaeum Theatre\, 188 Collins Street\, Melbourne\, VIC\, 3000\, Australia
CATEGORIES:Musical
ATTACH;FMTTYPE=image/png:https://thetheatre.au/wp-content/uploads/2025/06/Hedwig-and-the-Angry-Inch.png
ORGANIZER;CN="Sarah":MAILTO:Sarah@theatrical.com.au
END:VEVENT
BEGIN:VEVENT
DTSTART;VALUE=DATE:20250629
DTEND;VALUE=DATE:20250630
DTSTAMP:20260420T172554
CREATED:20250628T231346Z
LAST-MODIFIED:20250628T231346Z
UID:10000761-1751155200-1751241599@thetheatre.au
SUMMARY:SUGAR
DESCRIPTION:Following a sold-out Melbourne Fringe 2024 season and still raving from a national tour\, SUGAR has been invited to perform at the Edinburgh Festival Fringe 2025 and they need your help to get there. \nThis special gala event features the full SUGAR experience with guest appearances by Australian musical rockstar Victoria Falconer (Hedwig and the Angry Inch)\, cabaret drag icons Iva Rosebud and Skank Sinatra\, and more to be announced\, all coming together to raise funds towards SUGAR’S international debut. \nSUGAR is the story of a radiantly-beautiful gender-fluid twink who discovers that there’s money to be made from ‘transactional relationships’ (though their primary source of information is Julia Roberts in Pretty Woman). What could go wrong? \nPop hits from Kylie to Chappell Roan pack this electric cabaret about luxury\, power and being paid to have sex on a grand piano.
URL:https://thetheatre.au/event/sugar/
LOCATION:Arts Centre Melbourne\, 100 St Kilda Road\, Melbourne\, VIC\, 3004\, Australia
CATEGORIES:Musical
ATTACH;FMTTYPE=image/png:https://thetheatre.au/wp-content/uploads/2025/06/SUGAR.png
ORGANIZER;CN="Sarah":MAILTO:Sarah@theatrical.com.au
END:VEVENT
END:VCALENDAR