BEGIN:VCALENDAR
VERSION:2.0
PRODID:-//thetheatre.au - ECPv6.2.1//NONSGML v1.0//EN
CALSCALE:GREGORIAN
METHOD:PUBLISH
X-ORIGINAL-URL:https://thetheatre.au
X-WR-CALDESC:Events for thetheatre.au
REFRESH-INTERVAL;VALUE=DURATION:PT1H
X-Robots-Tag:noindex
X-PUBLISHED-TTL:PT1H
BEGIN:VTIMEZONE
TZID:Australia/Melbourne
BEGIN:STANDARD
TZOFFSETFROM:+1100
TZOFFSETTO:+1000
TZNAME:AEST
DTSTART:20250405T160000
END:STANDARD
BEGIN:DAYLIGHT
TZOFFSETFROM:+1000
TZOFFSETTO:+1100
TZNAME:AEDT
DTSTART:20251004T160000
END:DAYLIGHT
BEGIN:STANDARD
TZOFFSETFROM:+1100
TZOFFSETTO:+1000
TZNAME:AEST
DTSTART:20260404T160000
END:STANDARD
BEGIN:DAYLIGHT
TZOFFSETFROM:+1000
TZOFFSETTO:+1100
TZNAME:AEDT
DTSTART:20261003T160000
END:DAYLIGHT
END:VTIMEZONE
BEGIN:VEVENT
DTSTART;VALUE=DATE:20250909
DTEND;VALUE=DATE:20260314
DTSTAMP:20260420T013001
CREATED:20250624T015343Z
LAST-MODIFIED:20260106T085253Z
UID:10000757-1757376000-1773446399@thetheatre.au
SUMMARY:MJ The Musical Melbourne
DESCRIPTION:He is one of the greatest entertainers of all time. Now\, Michael Jackson’s unique and unparalleled artistry is heading to Melbourne in the multiple Tony Award®-winning MJ the Musical. \nCentred around the making of his 1992 Dangerous World Tour\, MJ the Musical goes beyond the singular moves and signature sound of the star\, offering a rare look at the creative mind and collaborative spirit that catapulted Jackson into legendary status. \nCreated by Tony Award®-winning Director/Choreographer Christopher Wheeldon and two-time Pulitzer Prize winner Lynn Nottage\, MJ the Musical Melbourne opens September 2025. \nCheck out our Review of the Sydney Production of MJ The Musical 
URL:https://thetheatre.au/event/mj-the-musical-melbourne/
LOCATION:Her Majesty’s Theatre\, 219 Exhibition Street\, Melbourne\, VIC\, 3000\, Australia
CATEGORIES:Musical
ATTACH;FMTTYPE=image/png:https://thetheatre.au/wp-content/uploads/2024/11/MJ-The-Musical.png
ORGANIZER;CN="Sarah":MAILTO:Sarah@theatrical.com.au
END:VEVENT
BEGIN:VEVENT
DTSTART;VALUE=DATE:20250926
DTEND;VALUE=DATE:20260126
DTSTAMP:20260420T013001
CREATED:20250303T065524Z
LAST-MODIFIED:20251022T031549Z
UID:10000726-1758844800-1769385599@thetheatre.au
SUMMARY:Back to the Future The Musical Sydney
DESCRIPTION:Sydney\, get ready to make musical theatre history! BACK TO THE FUTURE The Musical is making its Australian Premiere at the Sydney Lyric this September. This electrifying\, Olivier Award-winning production from London brings the beloved film trilogy to life on stage. \nStep into Hill Valley\, where Marty McFly is unexpectedly thrust back to 1955 in a time-traveling DeLorean created by the eccentric Doc Brown. But when he inadvertently alters history\, Marty must race against time to set things right\, return to the present\, and launch himself… back to the future!
URL:https://thetheatre.au/event/back-to-the-future-the-musical-sydney/
LOCATION:Sydney Lyric Theatre\, 55 Pirrama Rd\, Pyrmont\, NSW\, 2009\, Australia
CATEGORIES:Musical
ATTACH;FMTTYPE=image/png:https://thetheatre.au/wp-content/uploads/2025/03/Back-to-the-future-1.png
ORGANIZER;CN="Sarah":MAILTO:Sarah@theatrical.com.au
END:VEVENT
BEGIN:VEVENT
DTSTART;VALUE=DATE:20250927
DTEND;VALUE=DATE:20251102
DTSTAMP:20260420T013001
CREATED:20250512T014840Z
LAST-MODIFIED:20250720T002812Z
UID:10000741-1758931200-1762041599@thetheatre.au
SUMMARY:Rent -Sydney
DESCRIPTION:The musical that rocked Broadway is back!\nExperience Jonathan Larson’s electrifying\, multi-Tony® Award winning musical\, in this electrifying\, critically-acclaimed new production. \nStep into the vibrant streets of New York City’s East Village\, where dreams are born\, friendships are tested\, and the power of love prevails against all odds. \nThis groundbreaking phenomenon\, inspired by Puccini’s La Bohème is more than a musical; it’s a celebration of life\, love\, and the human spirit. \nDon’t miss your chance to discover the show that took Broadway by storm.
URL:https://thetheatre.au/event/rent-sydney/
LOCATION:Sydney Opera House\, Bennelong Point\, Sydney\, NSW\, 2000\, Australia
CATEGORIES:Musical
ATTACH;FMTTYPE=image/png:https://thetheatre.au/wp-content/uploads/2025/05/Rent-1.png
ORGANIZER;CN="IP%20Publicity":MAILTO:info@ippublicity.com.au
END:VEVENT
BEGIN:VEVENT
DTSTART;VALUE=DATE:20251017
DTEND;VALUE=DATE:20251123
DTSTAMP:20260420T013001
CREATED:20250903T071834Z
LAST-MODIFIED:20250903T071834Z
UID:10000795-1760659200-1763855999@thetheatre.au
SUMMARY:Phar Lap: The Electro-Swing Musical
DESCRIPTION:The musical that stops the nation \nWORLD PREMIERE \nDirected by Sheridan Harbridge \nNot just another absurdist\, electro-swing musical comedy about a thoroughbred racehorse\, Phar Lap is a rags-to-riches story with a big heart. If you’re thinking elaborate life-size puppetry and dazzling special effects\, you couldn’t be more wrong (we don’t have the budget). Suspend your disbelief as an actor swaps his horseshoes for tap shoes to play one of Australia’s most beloved icons. \nWhen an awkward\, gangly horse from New Zealand meets a hapless\, down-on-his-luck\, trainer\, they embark on a classic underdog story to win the Melbourne Cup\, and Australians’ hearts and minds. The road isn’t easy – there are gambling scandals\, double-crosses\, an attempted shooting\, and a career-threatening addiction to sugar. It’s high stakes\, high drama\, and highly historically accurate. \nPhar Lap boasts an irresistible electro-swing score\, with inspirations from Duke Ellington to Daft Punk. Brassy\, lively and retro – these songs will take you from the race course to the rave hall. \nPop the champagne\, harness up\, and get ready for a wild ride. \nPrices\nPreviews\nAdult $69\nConcession/Group (8+) $64\nUnder 35 $55\nMid-Week Matinees\nAdult $79\nConcession/Group (8+) $69\nUnder 35 $60\nWeeknights & Saturday Matinees\nAdult $84\nConcession/Group (8+) $74\nUnder 35 $65\nFriday & Saturday Evenings\nAdult $89\nConcession/Group (8+) $79\n*Concession prices apply to Seniors\, Pensioners\, Students and MEAA members.\nTimes\nMonday 6:30pm\nTuesday – Saturday 7:30pm\nThursday 1:00pm\nSaturday 2:00pm\n*No matinee performance on Sat 18 Oct\n*No matinee performance on Thu 23 Oct\n*Post show Q&A on Mon 27 Oct\n*Captioned performance on Wed 5 Nov\nRunning Time\nApprox. 90 minutes – no interval\nAccessibility\nWheelchair Accessible\nCaptioned Performance – WED 5 NOV
URL:https://thetheatre.au/event/phar-lap-the-electro-swing-musical/
LOCATION:Hayes Theatre Co.\, 19 Greenknowe Avenue\, Elizabeth Bay\, NSW\, 2011\, Australia
CATEGORIES:Musical
ATTACH;FMTTYPE=image/jpeg:https://thetheatre.au/wp-content/uploads/2025/08/481673931_968047885433898_7912107408342437049_n.jpg
ORGANIZER;CN="Hayes%20Theatre%20Co":MAILTO:boxoffice@hayestheatre.com.au
END:VEVENT
BEGIN:VEVENT
DTSTART;VALUE=DATE:20251023
DTEND;VALUE=DATE:20251103
DTSTAMP:20260420T013001
CREATED:20250718T203850Z
LAST-MODIFIED:20250721T012612Z
UID:10000770-1761177600-1762127999@thetheatre.au
SUMMARY:Here You Come Again Melbourne
DESCRIPTION:Here You Come Again is a feel-good\, high-energy musical comedy packed with all the greatest Dolly Parton hits. Featuring unforgettable songs like Jolene\, 9 to 5\, Islands in the Stream\, I Will Always Love You\, and of course Here You Come Again\, this vibrant production tells the story of a devoted Dolly fan whose imaginary version of the legendary star helps him through life’s biggest ups and downs. With Dolly’s signature humour\, heart\, and wisdom\, he learns powerful lessons about love\, resilience\, and finding your sparkle—even if your boots aren’t bedazzled. \nStarring co-creator Tricia Paoluccio as Dolly herself\, alongside Dash Kruck (Little Shop of Horrors\, Jesus Christ Superstar) and a stellar local cast and live band\, this crowd-pleasing musical has been reimagined for Australian audiences by Fiona Harris and Mike McLeish. Co-created by Tricia Paoluccio\, Gabriel Barre\, and two-time Emmy winner Bruce Vilanch\, this is the must-see musical event of 2025. \nNational Tour\nMelbourne 12- 20 Jul 2025 Comedy Theatre.\nPerth 22-31 Aug 2025 Regal Theatre\nSydney 12 -28 Sep 2025. Theatre Royal\nMelbourne 23 Oct -2 Nov 2025 Comedy Theatre.\nNewcastle 20 Nov 2025 Civic Theatre\nCanberra 27-30 Nov 2025 Canberra Theatre Centre\nAdelaide 6 -14 Dec 2025 Her Majestys Theatre
URL:https://thetheatre.au/event/here-you-come-again-melbourne/
LOCATION:The Comedy Theatre\, 240 Exhibition Street\, Melbourne\, VIC\, 3000\, Australia
CATEGORIES:Musical
ATTACH;FMTTYPE=image/png:https://thetheatre.au/wp-content/uploads/2025/07/here-you-come-again.png
ORGANIZER;CN="Sarah":MAILTO:Sarah@theatrical.com.au
END:VEVENT
BEGIN:VEVENT
DTSTART;VALUE=DATE:20251025
DTEND;VALUE=DATE:20251201
DTSTAMP:20260420T013001
CREATED:20251022T043305Z
LAST-MODIFIED:20251022T043305Z
UID:10000814-1761350400-1764547199@thetheatre.au
SUMMARY:Hair the Musical Melbourne
DESCRIPTION:The tribal love rock musical\, HAIR celebrates the sixties counterculture in all its barefoot\, long-haired\, bell-bottomed\, beaded and fringed glory. \nTo an infectiously energetic rock beat\, the show wows audiences with songs like “Aquarius\,” “Good Morning\, Starshine\,” “Hair\,” “I Got Life” and “Let The Sunshine In.” \nLeading the tribe will be Alex Cooper (Much Ado About Nothing) as Claude\, Maxwell Simon (Moulin Rouge\, The Grinning Man) as Berger\, Elizabeth Brennan (Pride and Prejudice) as Sheila\, Clay Darius (Little Shop of Horrors\, We Will Rock You\, The Voice) as Hud\, Max Macdonald (The Jungle Book) as Walter\, Rosie Meader (Everybody Loves A Wedding) as Jeannie\, Jackson McGovern (Macbeth\, Animal Farm) as Woof\, Giorgia Kennedy (SIX\, & Juliet) as Chrissie\, and Zahrah Andrews (Hairspray) as Dionne. \nThey are joined by Tamara Foglia Castañeda (In the Heights) as Emmaretta\, Maverick Newman (Footloose\, Boys in the Band) as Leonard\, Teresa Moore (Bran Nue Dae\, Playschool) as Natalie\, Grant Young (Is God Is) as Leroy\, Linden Trescott (Kingdom of the Planet of the Apes) as Apache\, Larissa Teale (A Midsummer Night’s Dream) as Angela\, Bronte Horswood (Tinkerbell and the Dream Fairies) as Linda\, Madeleine Somers (A Midsummer Night’s Dream) as Astrid\, and Cameron Shook (Tinkerbell and the Dream Fairies) as Cammy.
URL:https://thetheatre.au/event/hair-the-musical-melbourne/
LOCATION:Athenaeum Theatre\, 188 Collins Street\, Melbourne\, VIC\, 3000\, Australia
CATEGORIES:Musical
ATTACH;FMTTYPE=image/png:https://thetheatre.au/wp-content/uploads/2025/10/Hair-the-musical.png
ORGANIZER;CN="Sarah":MAILTO:Sarah@theatrical.com.au
END:VEVENT
BEGIN:VEVENT
DTSTART;VALUE=DATE:20251031
DTEND;VALUE=DATE:20251106
DTSTAMP:20260420T013001
CREATED:20251022T033412Z
LAST-MODIFIED:20251022T033412Z
UID:10000811-1761868800-1762387199@thetheatre.au
SUMMARY:The Barber of Seville
DESCRIPTION:Opera Australia presents The Barber of Seville at the Regent Theatre\, Melbourne.\nBeyond haircuts and beard trims\, this canny barber is the city’s matchmaking maestro! \nAlmaviva is wealthy\, stealthy and head over heels. Rosina is witty\, pretty and just as smitten. She’s also inconveniently betrothed. They need a plan. Time to call on: Fi-ga-ro! Figaro! Figaro! \nEnter the friendly neighbourhood barber with wits and tricks as sharp as his razors. He sets to work to unite the young lovers in an evening of disguises and duplicity. \nThis rollicking\, laugh-out-loud comedy took a young Rossini just 13 days to write. Playful energy sparkles through as many famous tunes as you can pack into two-and-a-half hours. \nA cast of great voices and high spirits play among a marvellous set of cartoonish proportions — a world inspired by 1920s silent films\, featuring a life-size doll’s house as its centrepiece. \nAustralian Figaros Samuel Dale Johnson and Samuel Dundas lead some of our best comic talents in this side-splitting romp through Seville.
URL:https://thetheatre.au/event/the-barber-of-seville/
LOCATION:Regent Theatre\, 191 Collins Street\, Melbourne\, VIC\, 3000\, Australia
CATEGORIES:Musical
ATTACH;FMTTYPE=image/png:https://thetheatre.au/wp-content/uploads/2025/10/Barber-of-Seville.png
ORGANIZER;CN="Sarah":MAILTO:Sarah@theatrical.com.au
END:VEVENT
BEGIN:VEVENT
DTSTART;VALUE=DATE:20251031
DTEND;VALUE=DATE:20251129
DTSTAMP:20260420T013001
CREATED:20250720T001912Z
LAST-MODIFIED:20250720T001912Z
UID:10000759-1761868800-1764374399@thetheatre.au
SUMMARY:The Lovers
DESCRIPTION:Based on A Midsummer Night’s Dream by William Shakespeare.\nFeaturing an electrifyingly original pop score and a boldly reimagined script by Laura Murphy\, The Lovers is a fresh\, in-yer-face remix of A Midsummer Night’s Dream – bursting with heart\, humour\, and more than a touch of magic. \nFor centuries\, Oberon and Puck have been the ultimate matchmakers\, crafting perfect love stories. But in a world where romance is a chaotic mix of swipes\, situationships\, and ghosting – Oberon worries that true love is becoming extinct. Just when all hope seems lost\, four young lovers cross their path – ready for a night they’ll never forget. \nDirected by Nick Skubij (Frankenstein\, Fourteen)\, this brand-new\, high-energy musical blends a killer soundtrack\, a phenomenal live band\, innovative video design\, and a breath-taking cast.\nGet set for a totally modern love story – where nothing goes as planned\, but everything happens for a reason. \nIt’s a contemporary mix tape of pop bangers presented on a Shakespearean scale. \nThe production stars Natalie Abbott (Muriel’s Wedding The Musical) as Helena\, Jason Arrow (Hamilton) as Demetrius\, Jayme‑lee Hanekom (TINA – The Tina Turner Musical) as Puck\, Loren Hunter (SIX the Musical) as Hermia\, Stellar Perry (The Rocky Horror Show) as Oberon\, Mat Verevis (TINA – The Tina Turner Musical) as Lysander\, along with covers Indigo Hunt (Hamilton)\, Jenni Little (TINA – The Tina Turner Musical) and Nic Van Lits (The Rocky Horror Show).
URL:https://thetheatre.au/event/the-lovers/
LOCATION:Theatre Royal\, 108 King Street\, Sydney\, NSW\, 2000\, Australia
CATEGORIES:Musical
ATTACH;FMTTYPE=image/jpeg:https://thetheatre.au/wp-content/uploads/2025/06/IMG_1383.jpg
ORGANIZER;CN="Shake%20%26%20Stir%20Theatre%20Co":MAILTO:info@shakeandstir.com.au
END:VEVENT
BEGIN:VEVENT
DTSTART;VALUE=DATE:20251101
DTEND;VALUE=DATE:20251116
DTSTAMP:20260420T013001
CREATED:20250722T234735Z
LAST-MODIFIED:20250722T234735Z
UID:10000779-1761955200-1763251199@thetheatre.au
SUMMARY:School of Rock
DESCRIPTION:Wannabe rock god. Accidental teacher.\nSchool of Rock The Musical follows slacker musician Dewey Finn as he bluffs his way into a prestigious prep school and turns a class of straight-A students into a guitar-shredding\, drum-thumping rock band. \nWith the Battle of the Bands on the line and the school’s uptight principal watching his every move\, Dewey will need more than killer solos to pull it off… he’ll need to stick it to the man… without getting caught.\nWith music by Andrew Lloyd Webber\, lyrics by Glenn Slater\, and a book by Julian Fellowes\, School of Rock – The Musical brings pure rock rebellion to the stage. \nBased on the Paramount movie written by Mike White\, it slams power chords into prep school and turns the volume up on what it means to break the rules\, find your people\, and play with everything you’ve got. This isn’t just school it’s a full-blown anthem for anyone who’s ever felt out of place and turned it into power.
URL:https://thetheatre.au/event/school-of-rock-2/
LOCATION:The National Theatre\, 20 Carlisle Street\, St Kilda\, VIC\, 3182\, Australia
CATEGORIES:Musical
ATTACH;FMTTYPE=image/png:https://thetheatre.au/wp-content/uploads/2025/07/School-of-Rock-SOR.png
ORGANIZER;CN="Sarah":MAILTO:Sarah@theatrical.com.au
END:VEVENT
BEGIN:VEVENT
DTSTART;VALUE=DATE:20251119
DTEND;VALUE=DATE:20251207
DTSTAMP:20260420T013001
CREATED:20241023T063455Z
LAST-MODIFIED:20250314T012957Z
UID:10000603-1763510400-1765065599@thetheatre.au
SUMMARY:Meow Meow's The Red Shoes
DESCRIPTION:From a chorus of hairy fawns to singing swans and showgirl stars\, experience an unforgettable\, frenetic song-and-dance into meaning with Meow Meow’s The Red Shoes.\nHaving wowed New York’s Carnegie Hall\, the world-renowned performer behind Meow Meow’s Little Match Girl and Meow Meow’s Little Mermaid now urgently remedies ‘The Red Shoes’. This fairytale by Hans Christian Andersen brutally punished its covetous protagonist with an ever-dancing curse that propelled her far from heaven’s gates. Meow Meow asks: what if she could never start dancing at all? Can we save her? Can we save the world?! \nA musical celebration that will shock you out of stagnancy and into ecstatic oblivion from ‘the queen of chanson’ (Berliner Zeitung) with ‘devilish funny bones and heavenly vocal chords’ (Evening Standard UK)\, Meow Meow. \nLeave in love with life again. \nRemember why you wanted to dance in the first place.
URL:https://thetheatre.au/event/meow-meows-the-red-shoes/
LOCATION:Malthouse Theatre\, 113 Sturt Street\, Southbank\, VIC\, 3006\, Australia
CATEGORIES:Musical
ATTACH;FMTTYPE=image/png:https://thetheatre.au/wp-content/uploads/2024/10/Meow-Meows-The-Red-Shoes.png
ORGANIZER;CN="Jay":MAILTO:jay@thetheatre.au
END:VEVENT
BEGIN:VEVENT
DTSTART;VALUE=DATE:20251120
DTEND;VALUE=DATE:20251124
DTSTAMP:20260420T013001
CREATED:20250721T012556Z
LAST-MODIFIED:20250721T012556Z
UID:10000775-1763596800-1763942399@thetheatre.au
SUMMARY:Here You Come Again Newcastle
DESCRIPTION:Here You Come Again is a feel-good\, high-energy musical comedy packed with all the greatest Dolly Parton hits. Featuring unforgettable songs like Jolene\, 9 to 5\, Islands in the Stream\, I Will Always Love You\, and of course Here You Come Again\, this vibrant production tells the story of a devoted Dolly fan whose imaginary version of the legendary star helps him through life’s biggest ups and downs. With Dolly’s signature humour\, heart\, and wisdom\, he learns powerful lessons about love\, resilience\, and finding your sparkle—even if your boots aren’t bedazzled. \nStarring co-creator Tricia Paoluccio as Dolly herself\, alongside Dash Kruck (Little Shop of Horrors\, Jesus Christ Superstar) and a stellar local cast and live band\, this crowd-pleasing musical has been reimagined for Australian audiences by Fiona Harris and Mike McLeish. Co-created by Tricia Paoluccio\, Gabriel Barre\, and two-time Emmy winner Bruce Vilanch\, this is the must-see musical event of 2025. \nNational Tour\nMelbourne 12- 20 Jul 2025 Comedy Theatre.\nPerth 22-31 Aug 2025 Regal Theatre\nSydney 12 -28 Sep 2025. Theatre Royal\nMelbourne 23 Oct -2 Nov 2025 Comedy Theatre.\nNewcastle 20 Nov 2025 Civic Theatre\nCanberra 27-30 Nov 2025 Canberra Theatre Centre\nAdelaide 6 -14 Dec 2025 Her Majestys Theatre
URL:https://thetheatre.au/event/here-you-come-again-newcastle/
LOCATION:Civic Theatre Newcastle\, 375 Hunter Street\, Newcastle\, NSW\, Australia
CATEGORIES:Musical
ATTACH;FMTTYPE=image/png:https://thetheatre.au/wp-content/uploads/2025/07/here-you-come-again.png
ORGANIZER;CN="Sarah":MAILTO:Sarah@theatrical.com.au
END:VEVENT
BEGIN:VEVENT
DTSTART;VALUE=DATE:20251127
DTEND;VALUE=DATE:20251201
DTSTAMP:20260420T013001
CREATED:20250721T012546Z
LAST-MODIFIED:20250721T012659Z
UID:10000778-1764201600-1764547199@thetheatre.au
SUMMARY:Here You Come Again Canberra
DESCRIPTION:Here You Come Again is a feel-good\, high-energy musical comedy packed with all the greatest Dolly Parton hits. Featuring unforgettable songs like Jolene\, 9 to 5\, Islands in the Stream\, I Will Always Love You\, and of course Here You Come Again\, this vibrant production tells the story of a devoted Dolly fan whose imaginary version of the legendary star helps him through life’s biggest ups and downs. With Dolly’s signature humour\, heart\, and wisdom\, he learns powerful lessons about love\, resilience\, and finding your sparkle—even if your boots aren’t bedazzled. \nStarring co-creator Tricia Paoluccio as Dolly herself\, alongside Dash Kruck (Little Shop of Horrors\, Jesus Christ Superstar) and a stellar local cast and live band\, this crowd-pleasing musical has been reimagined for Australian audiences by Fiona Harris and Mike McLeish. Co-created by Tricia Paoluccio\, Gabriel Barre\, and two-time Emmy winner Bruce Vilanch\, this is the must-see musical event of 2025. \nNational Tour\nMelbourne 12- 20 Jul 2025 Comedy Theatre.\nPerth 22-31 Aug 2025 Regal Theatre\nSydney 12 -28 Sep 2025. Theatre Royal\nMelbourne 23 Oct -2 Nov 2025 Comedy Theatre.\nNewcastle 20 Nov 2025 Civic Theatre\nCanberra 27-30 Nov 2025 Canberra Theatre Centre\nAdelaide 6 -14 Dec 2025 Her Majestys Theatre
URL:https://thetheatre.au/event/here-you-come-again-canberra/
LOCATION:Canberra Theatre Centre\, Civic Square\, London Circuit\, Canberra\, ACT\, 2601\, Australia
CATEGORIES:Musical
ATTACH;FMTTYPE=image/png:https://thetheatre.au/wp-content/uploads/2025/07/here-you-come-again.png
ORGANIZER;CN="Sarah":MAILTO:Sarah@theatrical.com.au
END:VEVENT
END:VCALENDAR