BEGIN:VCALENDAR
VERSION:2.0
PRODID:-//thetheatre.au - ECPv6.2.1//NONSGML v1.0//EN
CALSCALE:GREGORIAN
METHOD:PUBLISH
X-WR-CALNAME:thetheatre.au
X-ORIGINAL-URL:https://thetheatre.au
X-WR-CALDESC:Events for thetheatre.au
REFRESH-INTERVAL;VALUE=DURATION:PT1H
X-Robots-Tag:noindex
X-PUBLISHED-TTL:PT1H
BEGIN:VTIMEZONE
TZID:Australia/Melbourne
BEGIN:STANDARD
TZOFFSETFROM:+1100
TZOFFSETTO:+1000
TZNAME:AEST
DTSTART:20260404T160000
END:STANDARD
BEGIN:DAYLIGHT
TZOFFSETFROM:+1000
TZOFFSETTO:+1100
TZNAME:AEDT
DTSTART:20261003T160000
END:DAYLIGHT
END:VTIMEZONE
BEGIN:VEVENT
DTSTART;VALUE=DATE:20260618
DTEND;VALUE=DATE:20260713
DTSTAMP:20260422T051421
CREATED:20260106T083846Z
LAST-MODIFIED:20260106T083858Z
UID:10000818-1781740800-1783900799@thetheatre.au
SUMMARY:Pride And Prejudice* (*sort of) Melbourne
DESCRIPTION:The five-star musical comedy sensation\, PRIDE AND PREJUDICE* (*sort of)\, is finally heading Down Under. \nNeil Gooding Productions and Woodward Productions Present\nby arrangement with David Pugh Limited\nPRIDE AND PREJUDICE* (*sort of)\nBY\nIsobel McArthur after Jane Austen \nDirect from its triumph in the West End where it won the Laurence Olivier Award for Best Comedy\, Pride and Prejudice* (*sort of) is a unique and audacious retelling of Jane Austen’s most iconic love story. Men\, money and microphones will be fought over in this irreverent but affectionate adaptation where the stakes couldn’t be higher when it comes to romance. \nThis “smart\, laugh out loud funny” (Daily Telegraph) show features a string of pop classics including ‘Young Hearts Run Free’\, ‘Will You Love Me Tomorrow’ and ‘You’re So Vain’.\nComing to Australia for the first time\, five fearless women bring Austen’s world of love\, class and chaos to life with heart\, humour and unstoppable energy in this modern take on one of the world’s most adapted pieces of literature
URL:https://thetheatre.au/event/pride-and-prejudice-sort-of-melbourne/
LOCATION:Athenaeum Theatre\, 188 Collins Street\, Melbourne\, VIC\, 3000\, Australia
CATEGORIES:Play
ATTACH;FMTTYPE=image/png:https://thetheatre.au/wp-content/uploads/2025/11/1BRuuYCt3DkM.png
ORGANIZER;CN="Woodward%20Productions%20%26amp%3B%20Neil%20Gooding%20Productions":MAILTO:alex@woodwardproductions.com
END:VEVENT
END:VCALENDAR