BEGIN:VCALENDAR
VERSION:2.0
PRODID:-//thetheatre.au - ECPv6.2.1//NONSGML v1.0//EN
CALSCALE:GREGORIAN
METHOD:PUBLISH
X-WR-CALNAME:thetheatre.au
X-ORIGINAL-URL:https://thetheatre.au
X-WR-CALDESC:Events for thetheatre.au
REFRESH-INTERVAL;VALUE=DURATION:PT1H
X-Robots-Tag:noindex
X-PUBLISHED-TTL:PT1H
BEGIN:VTIMEZONE
TZID:Australia/Melbourne
BEGIN:STANDARD
TZOFFSETFROM:+1100
TZOFFSETTO:+1000
TZNAME:AEST
DTSTART:20260404T160000
END:STANDARD
BEGIN:DAYLIGHT
TZOFFSETFROM:+1000
TZOFFSETTO:+1100
TZNAME:AEDT
DTSTART:20261003T160000
END:DAYLIGHT
END:VTIMEZONE
BEGIN:VEVENT
DTSTART;VALUE=DATE:20260716
DTEND;VALUE=DATE:20260831
DTSTAMP:20260422T063830
CREATED:20260106T083935Z
LAST-MODIFIED:20260106T083935Z
UID:10000822-1784160000-1788134399@thetheatre.au
SUMMARY:Pride And Prejudice* (*sort of) Sydney
DESCRIPTION:The five star West End sensation \nSongs\, silliness and sensibility. \nFollowing its London triumph\, where it won the Olivier Award for Best Comedy\, Pride and Prejudice (sort of) is a unique and audacious retelling of Jane Austen’s most iconic love story. Men\, money and microphones will be fought over in this irreverent but affectionate adaptation where the stakes couldn’t be higher when it comes to romance. \nThis “smart\, laugh out loud funny” (Daily Telegraph) show features a string of pop classics includingYoung Hearts Run Free\, Will You Love Me Tomorrow and You’re So Vain. \nComing to Sydney for the first time\, five fearless women bring Austen’s world of love\, class and chaos to life. With heart\, humour and unstoppable energy\, they deliver a modern twist on one of the world’s most loved classics.
URL:https://thetheatre.au/event/pride-and-prejudice-sort-of-sydney/
LOCATION:Sydney Opera House\, Bennelong Point\, Sydney\, NSW\, 2000\, Australia
CATEGORIES:Play
ATTACH;FMTTYPE=image/png:https://thetheatre.au/wp-content/uploads/2025/11/1BRuuYCt3DkM-1.png
ORGANIZER;CN="Woodward%20Productions%20%26amp%3B%20Neil%20Gooding%20Productions":MAILTO:alex@woodwardproductions.com
END:VEVENT
BEGIN:VEVENT
DTSTART;VALUE=DATE:20260723
DTEND;VALUE=DATE:20260810
DTSTAMP:20260422T063830
CREATED:20260223T030507Z
LAST-MODIFIED:20260223T030507Z
UID:10000828-1784764800-1786319999@thetheatre.au
SUMMARY:Steel Magnolias Melbourne
DESCRIPTION:The beloved film live on stage \nThe iconic story that made us laugh\, cry\, and fall in love with six extraordinary women is back — live on stage in a dazzling new Australian production. Written by Robert Harling\, the timeless tale of STEEL MAGNOLIAS comes alive under the direction of Lee Lewis and a cast of six powerhouse actors. \nStep inside Truvy’s beauty salon\, the heart of a small Southern town\, where local women share their joys\, struggles and a little neighbourly gossip. From weddings and babies to divorces and funerals\, they face life’s highs and lows with humour\, courage and impeccably styled hair. When tragedy strikes\, it’s in these familiar walls that they find comfort\, support and the unbreakable bonds of friendship that carry them through. \nBursting with sass\, warmth and Southern charm\, STEEL MAGNOLIAS delivers laughter\, love and unforgettable heart.
URL:https://thetheatre.au/event/steel-magnolias-melbourne/
LOCATION:Athenaeum Theatre\, 188 Collins Street\, Melbourne\, VIC\, 3000\, Australia
CATEGORIES:Play
ATTACH;FMTTYPE=image/jpeg:https://thetheatre.au/wp-content/uploads/2025/12/05EC00D8-2341-4599-9B39-0018BEF3E3F1-2.jpg
ORGANIZER;CN="Woodward%20Productions%20%26amp%3B%20Neil%20Gooding%20Productions":MAILTO:alex@woodwardproductions.com
END:VEVENT
END:VCALENDAR