BEGIN:VCALENDAR
VERSION:2.0
PRODID:-//thetheatre.au - ECPv6.2.1//NONSGML v1.0//EN
CALSCALE:GREGORIAN
METHOD:PUBLISH
X-WR-CALNAME:thetheatre.au
X-ORIGINAL-URL:https://thetheatre.au
X-WR-CALDESC:Events for thetheatre.au
REFRESH-INTERVAL;VALUE=DURATION:PT1H
X-Robots-Tag:noindex
X-PUBLISHED-TTL:PT1H
BEGIN:VTIMEZONE
TZID:Australia/Melbourne
BEGIN:STANDARD
TZOFFSETFROM:+1100
TZOFFSETTO:+1000
TZNAME:AEST
DTSTART:20230401T160000
END:STANDARD
BEGIN:DAYLIGHT
TZOFFSETFROM:+1000
TZOFFSETTO:+1100
TZNAME:AEDT
DTSTART:20230930T160000
END:DAYLIGHT
BEGIN:STANDARD
TZOFFSETFROM:+1100
TZOFFSETTO:+1000
TZNAME:AEST
DTSTART:20240406T160000
END:STANDARD
BEGIN:DAYLIGHT
TZOFFSETFROM:+1000
TZOFFSETTO:+1100
TZNAME:AEDT
DTSTART:20241005T160000
END:DAYLIGHT
END:VTIMEZONE
BEGIN:VEVENT
DTSTART;VALUE=DATE:20230929
DTEND;VALUE=DATE:20240101
DTSTAMP:20260420T083032
CREATED:20230929T010311Z
LAST-MODIFIED:20240610T101230Z
UID:10000385-1695945600-1704067199@thetheatre.au
SUMMARY:Elvis A Musical Revolution
DESCRIPTION:Featuring over 40 hit songs\, Elvis: A Musical Revolution celebrates the extraordinary life of award winning\, cultural icon\, Elvis Presley. From his childhood in Mississippi\, to his triumphant ‘68 Comeback Special\, and ascent to become ‘The King of Rock ‘n’ Roll’\, this brand-new high-energy production explores the pivotal moments in Elvis’s life and music career through the perspectives of those who knew him best. \nSongs include Jailhouse Rock\, Hound Dog\, That’s All Right\, All Shook Up\, Suspicious Minds\, Heartbreak Hotel\, Burning Love\, Blue Suede Shoes\, Good Rockin’Tonight\, Can’t Help Falling In Love\, Earth Angel\, Don’t Be Cruel\, Are You Lonesome\, Blue Moon of Kentucky\, See See Rider\, A Little Less Conversation and more. \nWith an all-star Australian cast\, dazzling choreography\, and hit after hit\, you simply can’t help falling in love with Elvis A Musical Revolution!
URL:https://thetheatre.au/event/elvis-a-musical-revolution/
LOCATION:Athenaeum Theatre\, 188 Collins Street\, Melbourne\, VIC\, 3000\, Australia
CATEGORIES:Musical
ATTACH;FMTTYPE=image/png:https://thetheatre.au/wp-content/uploads/2023/10/Elvis.png
ORGANIZER;CN="David%20Venn%20Enterprises":MAILTO:admin@davidvenn.com.au
END:VEVENT
BEGIN:VEVENT
DTSTART;VALUE=DATE:20231004
DTEND;VALUE=DATE:20231211
DTSTAMP:20260420T083032
CREATED:20231010T232232Z
LAST-MODIFIED:20240826T075151Z
UID:10000384-1696377600-1702252799@thetheatre.au
SUMMARY:MAMMA MIA! The Musical
DESCRIPTION:MAMMA MIA! The Musical  is back in Melbourne at the Princess Theatre this October! Featuring 22 of ABBA’s greatest hits\, this mega hit is full of fun\, laughter and good times. Critics call this smash hit musical a crowd-pleasing extravaganza and a must see! \nMAMMA MIA! tells the tale of Sophie\, a young bride-to-be who\, on the eve of her wedding\, goes on a quest to discover the identity of her father. Her quest brings three men from her mothers past back to the island they last visited 20 years before. \nFALL IN LOVE WITH MAMMA MIA! ALL OVER AGAIN!\nSeen and loved by over 65 million people around the world\, this smash hit phenomenon is your ticket to join the party of a lifetime.  A celebration of love\, laughter and friendship\, MAMMA MIA! The Musical is a fabulous night out for all ages!
URL:https://thetheatre.au/event/mamma-mia-the-musical/
LOCATION:Princess Theatre\, 163 Spring Street\, Melbourne\, VIC\, 3000\, Australia
CATEGORIES:Musical
ATTACH;FMTTYPE=image/jpeg:https://thetheatre.au/wp-content/uploads/2023/09/Mamma-Mia.jpeg
END:VEVENT
BEGIN:VEVENT
DTSTART;VALUE=DATE:20231019
DTEND;VALUE=DATE:20231218
DTSTAMP:20260420T083032
CREATED:20231116T005224Z
LAST-MODIFIED:20231116T005224Z
UID:10000407-1697673600-1702857599@thetheatre.au
SUMMARY:Hour of the Wolf
DESCRIPTION:Building on the landmark success of Because The Night (2021)\, Malthouse Theatre ambitiously realises Australia’s next chapter of large-scale immersive theatre. Hour of the Wolf introduces you to Hope Hill\, a town that is yours to freely explore on the longest night of the year. Interweaving stories unravel the disturbing disappearances occurring between the hours of 3am and 4am. Choose which of the ten characters to follow\, pick left or right at the end of every scene\, and trace this night from different points of view. \nEveryone has their own truth in Hope Hill. \nImmerse in the stories and indulge your curiosity by venturing off the path to solve side quests that unearth the history of the town—it might take you one step closer to meeting the myth herself. \nUnlock the Hour of the Wolf.
URL:https://thetheatre.au/event/hour-of-the-wolf/
LOCATION:Malthouse Theatre\, 113 Sturt Street\, Southbank\, VIC\, 3006\, Australia
CATEGORIES:Play
ATTACH;FMTTYPE=image/png:https://thetheatre.au/wp-content/uploads/2023/11/Untitled-design-5.png
ORGANIZER;CN="Ellen%20Savage":MAILTO:ellenrisavage@gmail.com
END:VEVENT
BEGIN:VEVENT
DTSTART;VALUE=DATE:20231115
DTEND;VALUE=DATE:20231218
DTSTAMP:20260420T083032
CREATED:20231116T003737Z
LAST-MODIFIED:20231127T231458Z
UID:10000406-1700006400-1702857599@thetheatre.au
SUMMARY:Who's Afraid of Virginia Woolf?
DESCRIPTION:Edward Albee’s classic slugfest Who’s Afraid of Virginia Woolf\, at least on the surface\, is an ode to the heartbreak of middle age\, a vicious dissection of a marriage straining under the cumulative rage and disappointments of many years.\nWhen it burst on to the stage in 1962 it tapped into a growing unease about notions of decency and respectability\, with a brutality and sustained menace that tore through the anxieties of the age. The play’s ritualised deconstruction of marriage\, gender\, sexuality and ambition still ring true to this day.\nYet\, Albee’s characters also tell a love story: a story of shared acceptance of an inescapable fate. The inertia and grotesque irony of Martha and George’s romance is served up to their unwitting guests as a taste of the humiliations and the inevitable compromises to come.
URL:https://thetheatre.au/event/whos-afraid-of-virginia-woolf/
LOCATION:Red Stitch: The Actor’s Theatre\, Rear 2 Chapel Street\, St Kilda East\, VIC\, 3182\, Australia
CATEGORIES:Play
ATTACH;FMTTYPE=image/jpeg:https://thetheatre.au/wp-content/uploads/2023/11/393215387_18392956609021189_4913597579421790336_n.jpg
ORGANIZER;CN="Ellen%20Savage":MAILTO:ellenrisavage@gmail.com
END:VEVENT
BEGIN:VEVENT
DTSTART;VALUE=DATE:20231117
DTEND;VALUE=DATE:20231203
DTSTAMP:20260420T083032
CREATED:20231110T025056Z
LAST-MODIFIED:20240611T035607Z
UID:10000401-1700179200-1701561599@thetheatre.au
SUMMARY:Ladies in Black
DESCRIPTION:Ladies in Black at the Heidelberg Theatre.  Recent High School graduate Lisa Miles has an ambition to attend university\, against her father’s wishes\, but meanwhile takes a holiday job at Goodes\, the most prestigious department store in 1950s Sydney. Here a world of new possibilities awaits her as she makes friends with the ladies who work in the women’s frock department. \nBased on the 1993 novel The Women in Black by Madeleine St John\, and first staged by the Queensland Theatre Company in 2015\, this delightful musical is a celebration of glamour\, gowns and growing up. \nLadies in Black closes 2 December 2024.
URL:https://thetheatre.au/event/ladies-in-black/
LOCATION:Heidelberg Theatre\, 36 Turnham Avenue\, Rosanna\, VIC\, 3084\, Australia
CATEGORIES:Musical
ATTACH;FMTTYPE=image/png:https://thetheatre.au/wp-content/uploads/2023/11/Untitled-design.png
ORGANIZER;CN="Ellen%20Savage":MAILTO:ellenrisavage@gmail.com
END:VEVENT
BEGIN:VEVENT
DTSTART;VALUE=DATE:20231122
DTEND;VALUE=DATE:20231204
DTSTAMP:20260420T083032
CREATED:20231116T010307Z
LAST-MODIFIED:20240611T051402Z
UID:10000408-1700611200-1701647999@thetheatre.au
SUMMARY:Whose Gonna Love 'Em?
DESCRIPTION:Written and directed by Kamarra Bell-Wykes\, Whose Gonna Love ‘Em? I am that i AM is a post-traumatic performance thesis\, winning the 2021 Patrick White Playwriting Award. \nStarring Maggie Church-Kopp\, Corey Saylor-Brunskill\, and Maurial Spearim\, accompanied by a live improvisational score by smallsound\, Whose Gonna Love ‘Em? I am that i AM is an absurd group therapy session held somewhere in the deepest cells of the collective mind and the colonised heart.
URL:https://thetheatre.au/event/whose-gonna-love-em/
LOCATION:Malthouse Theatre\, 113 Sturt Street\, Southbank\, VIC\, 3006\, Australia
CATEGORIES:Play
ATTACH;FMTTYPE=image/png:https://thetheatre.au/wp-content/uploads/2023/11/Untitled-design-6.png
ORGANIZER;CN="Ellen%20Savage":MAILTO:ellenrisavage@gmail.com
END:VEVENT
BEGIN:VEVENT
DTSTART;VALUE=DATE:20231122
DTEND;VALUE=DATE:20231204
DTSTAMP:20260420T083032
CREATED:20231116T010825Z
LAST-MODIFIED:20240611T045305Z
UID:10000409-1700611200-1701647999@thetheatre.au
SUMMARY:Chase
DESCRIPTION:Meet Chase. She’s living her best life. Just a shame there’s no one left to see it. \nCompelling\, repelling\, and funny. Joined by her zany crew of besties and YouTube subscribers for company\, at the party to end all parties. The party to end the world! That’s if any of them actually even exist… \nEqually offensive and endearing to theatregoers from every walk of life\, Carly Sheppard has been developing and performing the character of Chase for nearly a decade. Now she joins forces with Kamarra Bell-Wykes (A DAYLIGHT CONNECTION) to deliver the most over-the-top\, cracked version  yet! \nIf only she understood half of what she helps others discover. \nMeet Chase. You just might see yourself.
URL:https://thetheatre.au/event/chase/
LOCATION:Malthouse Theatre\, 113 Sturt Street\, Southbank\, VIC\, 3006\, Australia
CATEGORIES:Play
ATTACH;FMTTYPE=image/png:https://thetheatre.au/wp-content/uploads/2023/11/Untitled-design-7.png
ORGANIZER;CN="Ellen%20Savage":MAILTO:ellenrisavage@gmail.com
END:VEVENT
BEGIN:VEVENT
DTSTART;VALUE=DATE:20231122
DTEND;VALUE=DATE:20231204
DTSTAMP:20260420T083032
CREATED:20231116T014028Z
LAST-MODIFIED:20231127T230930Z
UID:10000410-1700611200-1701647999@thetheatre.au
SUMMARY:Vampire Lesbians of Sodom
DESCRIPTION:One of the longest running plays in Off-Broadway history\, Vampire Lesbians of Sodom by Charles Busch tells the saga of two fatally seductive vampiresses whose paths first collide in ancient Sodom. Their bitter rivalry as bloodsuckers\, but more importantly\, as actresses\, endures for two thousand years with stops along the way in 1920’s silent movie Hollywood and contemporary Las Vegas. Vampire Lesbians of Sodom is a demented tribute to horror cinema and divas of the Golden Age. A cult camp classic comedy in the same vein as Elvira Mistress of the Dark and Death Becomes Her. \nWith a cast of Melbourne’s finest\, including Jennifer Vuletic (Wentworth\, Looking for Alibrandi)\, Artemis Ioannides (Wentworth\, Because the Night)\, Zoe Boesen (Abigail’s Party)\, Brigid Gallacher (In The Club)\, and John Marc Desengano (Looking for Alibrandi)\, this is Little Ones Theatre’s final celebration of all things ridiculous. \nIt’s time to laugh and get your fangs out.
URL:https://thetheatre.au/event/vampire-lesbians-of-sodom/
LOCATION:Fortyfivedownstairs Theatre\, 45 Flinders Lane\, Melbourne\, VIC\, 3000\, Australia
CATEGORIES:Play
ATTACH;FMTTYPE=image/png:https://thetheatre.au/wp-content/uploads/2023/11/Untitled-design-8.png
ORGANIZER;CN="Ellen%20Savage":MAILTO:ellenrisavage@gmail.com
END:VEVENT
BEGIN:VEVENT
DTSTART;VALUE=DATE:20231123
DTEND;VALUE=DATE:20231203
DTSTAMP:20260420T083032
CREATED:20231109T003809Z
LAST-MODIFIED:20231109T003809Z
UID:10000394-1700697600-1701561599@thetheatre.au
SUMMARY:The Odd Couple (female version)
DESCRIPTION:Neil Simon’s revision of his hugely successful play\, The Odd Couple\, sees the lead characters transformed into Olive Madison and Florence Unger. Olive and their group of girlfriends are enjoying their weekly Trivial Pursuit night in Olive’s messy and ill-equipped apartment. As the game continues\, Florence arrives\, fresh from being dumped by her husband. Fearful that the neurotic Florence might attempt suicide\, Olive invites her to move in as her roommate. However\, Olive and Florence have VERY different personalities. Where Olive is messy\, untidy\, and unconcerned about the state of her apartment\, Florence is obsessively clean\, tidy\, and obsessed with hygiene. Olive’s easy-going outlook on life soon clashes with Florence’s highly-strung neurotic tendencies\, testing their friendship to the limit. When Olive organizes a double-date with the Costazuela brothers\, their differences come to a head and sparks fly.
URL:https://thetheatre.au/event/the-odd-couple-female-version/
LOCATION:Essendon Theatre Company\, 9 Bradshaw St\, Essendon\, Melbourne\, VIC\, 3040\, Australia
CATEGORIES:Play
ATTACH;FMTTYPE=image/jpeg:https://thetheatre.au/wp-content/uploads/2023/10/379931333_776394124495470_5361784919699313415_n.jpg
ORGANIZER;CN="Bethany%20Simmons":MAILTO:bethanysimmons2@gmail.com
END:VEVENT
BEGIN:VEVENT
DTSTART;VALUE=DATE:20231128
DTEND;VALUE=DATE:20231203
DTSTAMP:20260420T083032
CREATED:20231128T064309Z
LAST-MODIFIED:20240611T045756Z
UID:10000413-1701129600-1701561599@thetheatre.au
SUMMARY:MARIEDL\, Selfies with a Giantess
DESCRIPTION:Maria Fassnauer\, known as ‘Mariedl\, the Tyrolean Giantess’ was born 1879 to an extremely poor farming family in Tyrol\, Austria\, and died there 38 years later. But those simple dates bookend an extraordinary life. Her fame spread from the small village out into the wider world.  Inevitably people came calling\, including a man who was to become her manager. Together with her sister Rosa\, she spent six years crossing Europe to be exhibited in theatres.  Including at the World Fair in Brussels\, in many a German panoptikum.  She then crossed to England where she spent a year at the Hippodromes in London and Manchester. It was here that Clive Darril from Wagga Wagga\, Australia\, caught up with her.  Clive made his infamous marriage proposal in front of the press\, which she turned down. She had sponsorship deals\, met royalty\, made a huge sum of money which she gave to her parents and a variety of charities.  Behind it all was a shy religious woman who had to work hard\, standing for hours in position and then selling postcards of herself. \nMARIEDL\, Selfies with a Giantess closes 2 December.
URL:https://thetheatre.au/event/mariedl-selfies-with-a-giantess/
LOCATION:The Butterfly Club\, 5 Carson Place\, Melbourne\, VIC\, 3000\, Australia
CATEGORIES:Play
ATTACH;FMTTYPE=image/png:https://thetheatre.au/wp-content/uploads/2023/11/Untitled-design-11.png
ORGANIZER;CN="Ellen%20Savage":MAILTO:ellenrisavage@gmail.com
END:VEVENT
BEGIN:VEVENT
DTSTART;VALUE=DATE:20231201
DTEND;VALUE=DATE:20231218
DTSTAMP:20260420T083032
CREATED:20231215T003452Z
LAST-MODIFIED:20231215T003452Z
UID:10000415-1701388800-1702857599@thetheatre.au
SUMMARY:Kinky Boots
DESCRIPTION:The Tony and Grammy Award winning musical Kinky Boots returns to Melbourne\, with hit music by Cyndi Lauper. Filled with glitter\, glam and a whole lot of sole\, Kinky Boots is a reminder to celebrate your life triumphantly. \nKinky Boots has inspired audiences across the globe\, showing everyone we can change the world when we change our minds.
URL:https://thetheatre.au/event/kinky-boots/
LOCATION:Chapel Off Chapel\, 12 Little Chapel Street\, Prahran\, VIC\, 3181\, Australia
CATEGORIES:Musical
ATTACH;FMTTYPE=image/png:https://thetheatre.au/wp-content/uploads/2023/12/Untitled-design-13.png
ORGANIZER;CN="Ellen%20Savage":MAILTO:ellenrisavage@gmail.com
END:VEVENT
BEGIN:VEVENT
DTSTART;VALUE=DATE:20231202
DTEND;VALUE=DATE:20231203
DTSTAMP:20260420T083032
CREATED:20231128T061814Z
LAST-MODIFIED:20240611T045928Z
UID:10000412-1701475200-1701561599@thetheatre.au
SUMMARY:Murder Village: An Improvised Whodunnit
DESCRIPTION:It’s murder most foul. The crime of the century. It’s Agatha Christie\, improvised! \nStep into the world of a classic English murder mystery. Murder Village: An Improvised Whodunnit is the critically-acclaimed improvised comedy experience that brings the world of Christie to life\, complete with mysterious characters\, devilish red herrings\, clever clues\, and an amateur sleuth always on hand to outsmart local law officials and solve the case themselves. \nEach performance sees a new whodunnit spun from the mind of Melbourne’s best improvising comedians. Hailing from The Big HOO-HAA!\, Impro Melbourne and Impromptunes\, these hilarious performers weave your suggestions into a fiendishly clever puzzle for you to solve. Your votes decide via secret ballot who lives\, who dies and who will be unmasked as the killer. No two shows are ever the same! \nMurder Village closes 2 December.
URL:https://thetheatre.au/event/murder-village-an-improvised-whodunnit/
LOCATION:The Butterfly Club\, 5 Carson Place\, Melbourne\, VIC\, 3000\, Australia
CATEGORIES:Play
ATTACH;FMTTYPE=image/png:https://thetheatre.au/wp-content/uploads/2023/11/Untitled-design-10.png
ORGANIZER;CN="Ellen%20Savage":MAILTO:ellenrisavage@gmail.com
END:VEVENT
BEGIN:VEVENT
DTSTART;VALUE=DATE:20231208
DTEND;VALUE=DATE:20231217
DTSTAMP:20260420T083032
CREATED:20231108T031516Z
LAST-MODIFIED:20240610T095521Z
UID:10000398-1701993600-1702771199@thetheatre.au
SUMMARY:The Hunch Back of Notre Dame
DESCRIPTION:OSMaD presents the Victoria premiere of The Hunchback of Notre Dame this December.\nThe Hunchback of Notre Dame is a musical based on the classic novel by Victor Hugo.  Featuring songs from the Disney movie by Alan Menken and Stephen Schwartz. It tells the story of Quasimodo\, a hunchbacked bell-ringer who lives in the cathedral of Notre Dame in Paris.  Quasimodo who longs for acceptance but is shunned and ridiculed for his appearance.\nWith a talented cast of 30 and an on-stage choir of 32 the show will sound unlike any production you’ve heard before.\nThe show features powerful ballads and soaring anthems. Including iconic songs “Out There”\, “God Help the Outcasts” and “Hellfire”. It explores the timely themes of love\, acceptance\, and societal prejudice.\nOSMaD is a non-professional theatre company known for it’s high quality and award winning productions.  We can’t wait for you to join us this December as we bring this this epic story to life.
URL:https://thetheatre.au/event/the-hunch-back-of-notre-dame/
LOCATION:Geoffrey McComas Theatre\, 1 Morrison Street\, Hawthorn\, VIC\, 3122\, Australia
CATEGORIES:Musical
ATTACH;FMTTYPE=image/png:https://thetheatre.au/wp-content/uploads/2023/11/Hunchback-Square.png
ORGANIZER;CN="OSMaD":MAILTO:secretary@osmad.com.au
END:VEVENT
BEGIN:VEVENT
DTSTART;VALUE=DATE:20231208
DTEND;VALUE=DATE:20231217
DTSTAMP:20260420T083032
CREATED:20231115T235856Z
LAST-MODIFIED:20240610T083337Z
UID:10000404-1701993600-1702771199@thetheatre.au
SUMMARY:Into the Woods
DESCRIPTION:Into the Woods intertwines the plots of several Brothers Grimm fairy tales.  Exploring the consequences of our wants and wishes.   While we search for a cow as white as milk\, the cape as red as blood\, the hair as yellow as corn and the slipper as pure as gold.\nFollowSpot Theatre Company is thrilled to be heading “Into The Woods” with a star-studded cast\, a cow\, a giant and a golden egg!
URL:https://thetheatre.au/event/into-the-woods/
LOCATION:Clayton Community Theatre\, 9-15 Cooke Street\, Clayton\, VIC\, 3168\, Australia
CATEGORIES:Musical
ATTACH;FMTTYPE=image/png:https://thetheatre.au/wp-content/uploads/2023/11/Untitled-design-2.png
ORGANIZER;CN="Ellen%20Savage":MAILTO:ellenrisavage@gmail.com
END:VEVENT
BEGIN:VEVENT
DTSTART;VALUE=DATE:20231211
DTEND;VALUE=DATE:20231217
DTSTAMP:20260420T083032
CREATED:20231214T025216Z
LAST-MODIFIED:20240611T050055Z
UID:10000414-1702252800-1702771199@thetheatre.au
SUMMARY:The Problem is the Ending
DESCRIPTION:The Problem is the Ending. Three characters seem to be imprisoned in a theatre. Who created them? Who ordered them to tell their story? \nThis new piece is an absurd tale with original music\, written by Joachim Matschoss.
URL:https://thetheatre.au/event/the-problem-is-the-ending/
LOCATION:The Butterfly Club\, 5 Carson Place\, Melbourne\, VIC\, 3000\, Australia
ATTACH;FMTTYPE=image/png:https://thetheatre.au/wp-content/uploads/2023/11/Untitled-design-12.png
ORGANIZER;CN="Ellen%20Savage":MAILTO:ellenrisavage@gmail.com
END:VEVENT
BEGIN:VEVENT
DTSTART;VALUE=DATE:20231214
DTEND;VALUE=DATE:20240205
DTSTAMP:20260420T083032
CREATED:20231214T025100Z
LAST-MODIFIED:20240611T050333Z
UID:10000416-1702512000-1707091199@thetheatre.au
SUMMARY:Moulin Rouge! The Musical
DESCRIPTION:Moulin Rouge! The Musical is Baz Luhrmann’s revolutionary film comes to life onstage\, remixed in a new musical mash-up extravaganza featuring over 70 songs including everyone’s favourite\, “Lady Marmalade\,” there are also thrilling new additions such as “Chandelier\,” “Single Ladies\,” and “Firework.” \nMoulin Rouge! The Musical is a theatrical celebration of Truth\, Beauty\, Freedom\, and — above all — Love. \n 
URL:https://thetheatre.au/event/moulin-rouge-the-musical/
LOCATION:Regent Theatre\, 191 Collins Street\, Melbourne\, VIC\, 3000\, Australia
CATEGORIES:Musical
ATTACH;FMTTYPE=image/png:https://thetheatre.au/wp-content/uploads/2023/12/Untitled-design-14.png
ORGANIZER;CN="Ellen%20Savage":MAILTO:ellenrisavage@gmail.com
END:VEVENT
BEGIN:VEVENT
DTSTART;VALUE=DATE:20231216
DTEND;VALUE=DATE:20240218
DTSTAMP:20260420T083032
CREATED:20240104T031030Z
LAST-MODIFIED:20240611T050620Z
UID:10000427-1702684800-1708214399@thetheatre.au
SUMMARY:A Midsummer Night's Dream
DESCRIPTION:The jewel in the Shakespeare comedy crown.  Get set to take a riotous ride through the interwoven world of Lovers\, Fairies and Fools. See the gardens lit up at night\, glowing and sparkling beyond your wildest imaginings.  Reel with laughter as you witness the comedy that is “A Midsummer Night’s Dream”. \nWhen the feuding king and queen of the fairies cross paths with a quartet of runaway lovers and a group of tradesmen come amateur actors attempting to rehearse a play\, one night in the enchanted forest becomes one wild ride!  The fairies magically meddle in the lives of the mortals.  Love triangles and transformations begin to occur with hilarious consequences!
URL:https://thetheatre.au/event/a-midsummer-nights-dream/
LOCATION:Royal Botanic Gardens Melbourne\, 100 Birdwood Avenue\, Melbourne\, VIC\, 3000\, Australia
CATEGORIES:Play
ATTACH;FMTTYPE=image/png:https://thetheatre.au/wp-content/uploads/2024/01/Untitled-design.png
ORGANIZER;CN="Ellen%20Savage":MAILTO:ellenrisavage@gmail.com
END:VEVENT
BEGIN:VEVENT
DTSTART;VALUE=DATE:20231231
DTEND;VALUE=DATE:20240108
DTSTAMP:20260420T083032
CREATED:20231109T004126Z
LAST-MODIFIED:20231109T004941Z
UID:10000397-1703980800-1704671999@thetheatre.au
SUMMARY:Catch Me If You Can
DESCRIPTION:Join PLOS for a ride through the 1960’s with high energy dance numbers and a riveting story about an incredible con artist who manages to fool so many for so long\, with nothing more than his charm\, imagination and chutzpah. \nBased on the 2002 hit film of the same name starring Leonardo Di Caprio and Tom Hanks\, the adventure romp Catch Me If You Can captures the astonishing story of Frank Abignale Jr\, a world-class con artist who passes himself off as a multitude of identities\, including a doctor\, a lawyer\, and a jet pilot – all before the age of 21. When Frank’s antics catch the attention of FBI agent Carl Hanratty\, the story becomes a study of two sparring partners hot footing it across the globe yet connected by a secret mutual admiration.
URL:https://thetheatre.au/event/catch-me-if-you-can/
LOCATION:Frankston Arts Centre\, 27-37 Davey Street\, Frankston\, VIC\, 3199\, Australia
CATEGORIES:Musical
ATTACH;FMTTYPE=image/png:https://thetheatre.au/wp-content/uploads/2023/11/CATCH-ME-IF-YOU-CAN.png
ORGANIZER;CN="Brett%20Wingfield":MAILTO:brett@plos.asn.au
END:VEVENT
END:VCALENDAR