BEGIN:VCALENDAR
VERSION:2.0
PRODID:-//thetheatre.au - ECPv6.2.1//NONSGML v1.0//EN
CALSCALE:GREGORIAN
METHOD:PUBLISH
X-WR-CALNAME:thetheatre.au
X-ORIGINAL-URL:https://thetheatre.au
X-WR-CALDESC:Events for thetheatre.au
REFRESH-INTERVAL;VALUE=DURATION:PT1H
X-Robots-Tag:noindex
X-PUBLISHED-TTL:PT1H
BEGIN:VTIMEZONE
TZID:Australia/Melbourne
BEGIN:STANDARD
TZOFFSETFROM:+1100
TZOFFSETTO:+1000
TZNAME:AEST
DTSTART:20230401T160000
END:STANDARD
BEGIN:DAYLIGHT
TZOFFSETFROM:+1000
TZOFFSETTO:+1100
TZNAME:AEDT
DTSTART:20230930T160000
END:DAYLIGHT
END:VTIMEZONE
BEGIN:VEVENT
DTSTART;VALUE=DATE:20231005
DTEND;VALUE=DATE:20231008
DTSTAMP:20260425T053351
CREATED:20231012T000631Z
LAST-MODIFIED:20240610T085548Z
UID:10000388-1696464000-1696723199@thetheatre.au
SUMMARY:Roaring
DESCRIPTION:Roaring at Chapel Off Chapel. Produced by Burwood Student Theatre Company Roaring is a play about Vera\, a waitress desperate for fame\, meets casino owner Johnny – and an unlikely romance blossoms.
URL:https://thetheatre.au/event/roaring/
LOCATION:Chapel Off Chapel\, 12 Little Chapel Street\, Prahran\, VIC\, 3181\, Australia
CATEGORIES:Play
ATTACH;FMTTYPE=image/png:https://thetheatre.au/wp-content/uploads/2023/10/Roaring-2.png
ORGANIZER;CN="Sarah":MAILTO:Sarah@theatrical.com.au
END:VEVENT
BEGIN:VEVENT
DTSTART;VALUE=DATE:20230929
DTEND;VALUE=DATE:20231002
DTSTAMP:20260425T053351
CREATED:20230926T232436Z
LAST-MODIFIED:20240611T035814Z
UID:10000383-1695945600-1696204799@thetheatre.au
SUMMARY:13 The Musical
DESCRIPTION:13 The Musical at Cranbourne Theatre.  Following a move from New York City to small-town Indiana\, young Evan Goldman grapples with his parents’ divorce\, prepares for his impending Bar Mitzvah\, and navigates the complicated social circles of a new school. This hilarious\, coming-of-age musical is about discovering that ‘cool’ is sometimes where we least expect it. With an unforgettable rock score from Tony Award-winning composer\, Jason Robert Brown\, 13 is a musical about fitting in – and standing out! \n13 The Musical closes 1 October 2023.
URL:https://thetheatre.au/event/13-the-musical/
LOCATION:Cranbourne Community Theatre\, Cranbourne Secondary College\, Brunt Street\, Cranbourne\, VIC\, 3997\, Australia
ATTACH;FMTTYPE=image/png:https://thetheatre.au/wp-content/uploads/2023/09/13-Promotion-1.png
END:VEVENT
END:VCALENDAR